BEGIN:VCALENDAR
VERSION:2.0
PRODID:-// - ECPv6.15.20//NONSGML v1.0//EN
CALSCALE:GREGORIAN
METHOD:PUBLISH
X-ORIGINAL-URL:https://143gregory.org
X-WR-CALDESC:Events for 
REFRESH-INTERVAL;VALUE=DURATION:PT1H
X-Robots-Tag:noindex
X-PUBLISHED-TTL:PT1H
BEGIN:VTIMEZONE
TZID:UTC
BEGIN:STANDARD
TZOFFSETFROM:+0000
TZOFFSETTO:+0000
TZNAME:UTC
DTSTART:20220101T000000
END:STANDARD
END:VTIMEZONE
BEGIN:VEVENT
DTSTART;TZID=UTC:20230510T190000
DTEND;TZID=UTC:20230510T203000
DTSTAMP:20260425T193907
CREATED:20230509T213938Z
LAST-MODIFIED:20230509T214407Z
UID:2118-1683745200-1683750600@143gregory.org
SUMMARY:Learn To Cope Peer-Led Support Group
DESCRIPTION:Learn to Cope\nA Peer-Led Support Network for families dealing with addiction and recovery\nOpen to the public! \nCome to the Town Hall on the 2nd and 4th Wednesday of every month\, from 7:00 p.m. to 8:30 p.m. \nClick on the graphic below to enlarge
URL:https://143gregory.org/event/learn-to-cope-peer-led-support-group/
LOCATION:Ames Building\, 450 Washington Street\, Dedham\, MA\, 02026
CATEGORIES:Day Event
ATTACH;FMTTYPE=image/png:https://143gregory.org/wp-content/uploads/2023/05/637885650206300000.png
END:VEVENT
END:VCALENDAR