BEGIN:VCALENDAR
VERSION:2.0
PRODID:-// - ECPv6.15.20//NONSGML v1.0//EN
CALSCALE:GREGORIAN
METHOD:PUBLISH
X-ORIGINAL-URL:https://143gregory.org
X-WR-CALDESC:Events for 
REFRESH-INTERVAL;VALUE=DURATION:PT1H
X-Robots-Tag:noindex
X-PUBLISHED-TTL:PT1H
BEGIN:VTIMEZONE
TZID:Asia/Dubai
BEGIN:STANDARD
TZOFFSETFROM:+0400
TZOFFSETTO:+0400
TZNAME:+04
DTSTART:20220101T000000
END:STANDARD
END:VTIMEZONE
BEGIN:VTIMEZONE
TZID:UTC
BEGIN:STANDARD
TZOFFSETFROM:+0000
TZOFFSETTO:+0000
TZNAME:UTC
DTSTART:20220101T000000
END:STANDARD
END:VTIMEZONE
BEGIN:VEVENT
DTSTART;TZID=Asia/Dubai:20231019T080000
DTEND;TZID=Asia/Dubai:20231021T170000
DTSTAMP:20260425T193619
CREATED:20230509T211111Z
LAST-MODIFIED:20230509T212818Z
UID:2110-1697702400-1697907600@143gregory.org
SUMMARY:4th Edition of Global Conference on Addiction Medicine\, Behavioral Health and Psychiatry
DESCRIPTION:This International addiction conferences offers open collaborations by presenting cutting edge research to global drug abuse conference 2023 audience\, overall the result will be of high quality…Read more on Addiction Conferences 2023 | Behavioral Health Conferences 2023 | Psychiatry Conferences 2023 | Addiction Medicine Conference | Drug Abuse Events | Drug Addiction Meetings
URL:https://143gregory.org/event/4th-edition-of-global-conference-on-addiction-medicine-behavioral-health-and-psychiatry/
LOCATION:Hilton Boston/Woburn\, 2 Forbes Rd\, Woburn\, MA\, 01801
CATEGORIES:Conference
ATTACH;FMTTYPE=image/jpeg:https://143gregory.org/wp-content/uploads/2023/04/educating-1-e1680623223312.jpg
END:VEVENT
BEGIN:VEVENT
DTSTART;TZID=UTC:20230624T080000
DTEND;TZID=UTC:20230627T170000
DTSTAMP:20260425T193619
CREATED:20230615T175417Z
LAST-MODIFIED:20230615T175521Z
UID:2316-1687593600-1687885200@143gregory.org
SUMMARY:DIA 2023 Global Annual Meeting
DESCRIPTION:The DIA 2023 Global Annual Meeting invites industry\, regulatory\, government\, academics\, and patients to network\, problem-solve\, and discuss global and local challenges facing the life sciences community. Hosted in Boston\, DIA 2023 will amplify different perspectives while highlighting expertise across the globe to reimagine current processes that better enhance health and well-being. https://www.diaglobal.org/Flagship/DIA-2023
URL:https://143gregory.org/event/dia-2023-global-annual-meeting/
CATEGORIES:Conference
ATTACH;FMTTYPE=image/jpeg:https://143gregory.org/wp-content/uploads/2023/06/23001-feat-orgs-308x308-1.jpg
END:VEVENT
END:VCALENDAR